BEGIN:VCALENDAR
VERSION:2.0
PRODID:-//hacksw/handcal//NONSGML v1.0//EN
BEGIN:VEVENT
DTSTAMP:20250726T130000Z
DTSTART:20250726T130000Z
DTEND:20250726T170000Z
LOCATION:Schützenheim Deilinghofen, Balver Weg 33, Hemer, Deutschland
SUMMARY:BSVD Kinder & Jugendschützenfest
END:VEVENT
END:VCALENDAR
