BEGIN:VCALENDAR
VERSION:2.0
PRODID:-//hacksw/handcal//NONSGML v1.0//EN
BEGIN:VEVENT
DTSTAMP:20250809T110000Z
DTSTART:20250809T110000Z
DTEND:20250809T130000Z
SUMMARY:BSVD Platzaufräumen
END:VEVENT
END:VCALENDAR
