BEGIN:VCALENDAR
VERSION:2.0
PRODID:-//hacksw/handcal//NONSGML v1.0//EN
BEGIN:VEVENT
DTSTAMP:20250816T160000Z
DTSTART:20250816T160000Z
DTEND:20250816T180000Z
LOCATION:BSVW Schützenheim, Schulstraße 5, Hemer, Deutschland
SUMMARY:BSVW Dorfabend
END:VEVENT
END:VCALENDAR
