BEGIN:VCALENDAR
VERSION:2.0
PRODID:-//hacksw/handcal//NONSGML v1.0//EN
BEGIN:VEVENT
DTSTAMP:20250823T110000Z
DTSTART:20250823T110000Z
DTEND:20250823T140000Z
LOCATION:Schützenplatz Kierspe, Ahornweg 26, Kierspe, Deutschland
SUMMARY:Kreiskönigsschießen
END:VEVENT
END:VCALENDAR
