BEGIN:VCALENDAR
VERSION:2.0
PRODID:-//hacksw/handcal//NONSGML v1.0//EN
BEGIN:VEVENT
DTSTAMP:20250823T220000Z
DTSTART:20250823T220000Z
DTEND:20250823T220000Z
LOCATION:Ganzer Ort, Ihmert, Hemer, Deutschland
SUMMARY:Schützenumzug Ihmert
END:VEVENT
END:VCALENDAR
