BEGIN:VCALENDAR
VERSION:2.0
PRODID:-//hacksw/handcal//NONSGML v1.0//EN
BEGIN:VEVENT
DTSTAMP:20250829T160000Z
DTSTART:20250829T160000Z
DTEND:20250829T214500Z
LOCATION:Sauerlandpark, Deutschland
SUMMARY:Hemer Olé
END:VEVENT
END:VCALENDAR
