BEGIN:VCALENDAR
VERSION:2.0
PRODID:-//hacksw/handcal//NONSGML v1.0//EN
BEGIN:VEVENT
DTSTAMP:20250830T140000Z
DTSTART:20250830T140000Z
DTEND:20250830T210000Z
LOCATION:Schützenheim BSV, Frönsberger Straße 31, Frönsberg, Hemer, Deutschland
SUMMARY:Krautnäpper Frönsberg
END:VEVENT
END:VCALENDAR
