BEGIN:VCALENDAR
VERSION:2.0
PRODID:-//hacksw/handcal//NONSGML v1.0//EN
BEGIN:VEVENT
DTSTAMP:20250830T150000Z
DTSTART:20250830T150000Z
DTEND:20250830T200000Z
LOCATION:Sauerlandpark, Nelkenweg 5-7, Hemer, Deutschland
SUMMARY:Johannes Oerding Konzert
END:VEVENT
END:VCALENDAR
