BEGIN:VCALENDAR
VERSION:2.0
PRODID:-//hacksw/handcal//NONSGML v1.0//EN
BEGIN:VEVENT
DTSTAMP:20250903T173000Z
DTSTART:20250903T173000Z
DTEND:20250903T203000Z
LOCATION:Altes Casino, Platanenallee 16, 58675 Hemer, Deutschland
SUMMARY:Podiumsdiskussion BM und Rat
END:VEVENT
END:VCALENDAR
