BEGIN:VCALENDAR
VERSION:2.0
PRODID:-//hacksw/handcal//NONSGML v1.0//EN
BEGIN:VEVENT
DTSTAMP:20250904T220000Z
DTSTART:20250904T220000Z
DTEND:20250904T220000Z
SUMMARY:Sommerkirmes CVJM & Stadtjugendring
END:VEVENT
END:VCALENDAR
