BEGIN:VCALENDAR
VERSION:2.0
PRODID:-//hacksw/handcal//NONSGML v1.0//EN
BEGIN:VEVENT
DTSTAMP:20250906T143000Z
DTSTART:20250906T143000Z
DTEND:20250906T213000Z
LOCATION:Schützenheim BSVW, Schulstraße 5, Hemer, Deutschland
SUMMARY:BSVW Schützenumzug
END:VEVENT
END:VCALENDAR
