BEGIN:VCALENDAR
VERSION:2.0
PRODID:-//hacksw/handcal//NONSGML v1.0//EN
BEGIN:VEVENT
DTSTAMP:20250908T160000Z
DTSTART:20250908T160000Z
DTEND:20250908T190000Z
LOCATION:Altens Casino, Platanenalle 16, Hemer, Deutschland
SUMMARY:Podiumsdiskussion Landrat
END:VEVENT
END:VCALENDAR
